BEGIN:VCALENDAR
VERSION:2.0
PRODID:-//Squarespace Inc/Squarespace 6//v6//EN
BEGIN:VEVENT
UID:56a010c7cbced6ff6b61052d@squarespace.com
DTSTAMP:20190118T054025Z
DTSTART:20190118T223000Z
DTEND:20190119T033000Z
SUMMARY:Coolalinga Rural Markets - Every Saturday
GEO:-12.525114;131.043411
LOCATION:Coolalinga Rural Markets\, Fred's Pass Reserve\, Coolalinga\, 0835
 \, Australia
END:VEVENT
END:VCALENDAR
